BEGIN:VCALENDAR
VERSION:2.0
PRODID:-//Corn Island Realty - ECPv6.15.18//NONSGML v1.0//EN
CALSCALE:GREGORIAN
METHOD:PUBLISH
X-WR-CALNAME:Corn Island Realty
X-ORIGINAL-URL:https://cornislandrealty.com
X-WR-CALDESC:Events for Corn Island Realty
REFRESH-INTERVAL;VALUE=DURATION:PT1H
X-Robots-Tag:noindex
X-PUBLISHED-TTL:PT1H
BEGIN:VTIMEZONE
TZID:America/Costa_Rica
BEGIN:STANDARD
TZOFFSETFROM:-0600
TZOFFSETTO:-0600
TZNAME:CST
DTSTART:20290101T000000
END:STANDARD
END:VTIMEZONE
BEGIN:VEVENT
DTSTART;TZID=America/Costa_Rica:20301025T200000
DTEND;TZID=America/Costa_Rica:20301025T233000
DTSTAMP:20260425T053912
CREATED:20260314T023315Z
LAST-MODIFIED:20260403T052003Z
UID:10000504-1919188800-1919201400@cornislandrealty.com
SUMMARY:Karaoke Night at Desi Social Club on Little Corn Island
DESCRIPTION:Every Friday\, Karaoke Night at Desi Social Club lights up Little Corn Island\, Nicaragua. The mic opens at 8:00 pm and runs until 11:30 pm right on the beachfront. \nSing your heart out with locals and visitors under the Caribbean stars. Fuel the fun with $1 rum shots and plenty of liquid courage. Laughs\, cheers\, and island energy fill the night as everyone joins in the good vibes. \n\nKaraoke Night at Desi Social Club brings the lively\, welcoming spirit that makes Corn Island nights unforgettable. \nGrab the mic and make some memories!
URL:https://cornislandrealty.com/event/karaoke-night-at-desi-social-club-little-corn-island/2030-10-25/
LOCATION:Desi Social Club\, Little Corn Island\, Nicaragua
CATEGORIES:Karaoke
ATTACH;FMTTYPE=image/jpeg:https://cornislandrealty.com/wp-content/uploads/2026/03/PHOTO-2026-04-02-18-26-29-3.jpg
GEO:12.2842;-82.9786
END:VEVENT
BEGIN:VEVENT
DTSTART;TZID=America/Costa_Rica:20301101T200000
DTEND;TZID=America/Costa_Rica:20301101T233000
DTSTAMP:20260425T053912
CREATED:20260314T023315Z
LAST-MODIFIED:20260403T052003Z
UID:10000505-1919793600-1919806200@cornislandrealty.com
SUMMARY:Karaoke Night at Desi Social Club on Little Corn Island
DESCRIPTION:Every Friday\, Karaoke Night at Desi Social Club lights up Little Corn Island\, Nicaragua. The mic opens at 8:00 pm and runs until 11:30 pm right on the beachfront. \nSing your heart out with locals and visitors under the Caribbean stars. Fuel the fun with $1 rum shots and plenty of liquid courage. Laughs\, cheers\, and island energy fill the night as everyone joins in the good vibes. \n\nKaraoke Night at Desi Social Club brings the lively\, welcoming spirit that makes Corn Island nights unforgettable. \nGrab the mic and make some memories!
URL:https://cornislandrealty.com/event/karaoke-night-at-desi-social-club-little-corn-island/2030-11-01/
LOCATION:Desi Social Club\, Little Corn Island\, Nicaragua
CATEGORIES:Karaoke
ATTACH;FMTTYPE=image/jpeg:https://cornislandrealty.com/wp-content/uploads/2026/03/PHOTO-2026-04-02-18-26-29-3.jpg
GEO:12.2842;-82.9786
END:VEVENT
BEGIN:VEVENT
DTSTART;TZID=America/Costa_Rica:20301108T200000
DTEND;TZID=America/Costa_Rica:20301108T233000
DTSTAMP:20260425T053912
CREATED:20260314T023315Z
LAST-MODIFIED:20260403T052003Z
UID:10000506-1920398400-1920411000@cornislandrealty.com
SUMMARY:Karaoke Night at Desi Social Club on Little Corn Island
DESCRIPTION:Every Friday\, Karaoke Night at Desi Social Club lights up Little Corn Island\, Nicaragua. The mic opens at 8:00 pm and runs until 11:30 pm right on the beachfront. \nSing your heart out with locals and visitors under the Caribbean stars. Fuel the fun with $1 rum shots and plenty of liquid courage. Laughs\, cheers\, and island energy fill the night as everyone joins in the good vibes. \n\nKaraoke Night at Desi Social Club brings the lively\, welcoming spirit that makes Corn Island nights unforgettable. \nGrab the mic and make some memories!
URL:https://cornislandrealty.com/event/karaoke-night-at-desi-social-club-little-corn-island/2030-11-08/
LOCATION:Desi Social Club\, Little Corn Island\, Nicaragua
CATEGORIES:Karaoke
ATTACH;FMTTYPE=image/jpeg:https://cornislandrealty.com/wp-content/uploads/2026/03/PHOTO-2026-04-02-18-26-29-3.jpg
GEO:12.2842;-82.9786
END:VEVENT
BEGIN:VEVENT
DTSTART;TZID=America/Costa_Rica:20301115T200000
DTEND;TZID=America/Costa_Rica:20301115T233000
DTSTAMP:20260425T053912
CREATED:20260314T023315Z
LAST-MODIFIED:20260403T052003Z
UID:10000507-1921003200-1921015800@cornislandrealty.com
SUMMARY:Karaoke Night at Desi Social Club on Little Corn Island
DESCRIPTION:Every Friday\, Karaoke Night at Desi Social Club lights up Little Corn Island\, Nicaragua. The mic opens at 8:00 pm and runs until 11:30 pm right on the beachfront. \nSing your heart out with locals and visitors under the Caribbean stars. Fuel the fun with $1 rum shots and plenty of liquid courage. Laughs\, cheers\, and island energy fill the night as everyone joins in the good vibes. \n\nKaraoke Night at Desi Social Club brings the lively\, welcoming spirit that makes Corn Island nights unforgettable. \nGrab the mic and make some memories!
URL:https://cornislandrealty.com/event/karaoke-night-at-desi-social-club-little-corn-island/2030-11-15/
LOCATION:Desi Social Club\, Little Corn Island\, Nicaragua
CATEGORIES:Karaoke
ATTACH;FMTTYPE=image/jpeg:https://cornislandrealty.com/wp-content/uploads/2026/03/PHOTO-2026-04-02-18-26-29-3.jpg
GEO:12.2842;-82.9786
END:VEVENT
BEGIN:VEVENT
DTSTART;TZID=America/Costa_Rica:20301122T200000
DTEND;TZID=America/Costa_Rica:20301122T233000
DTSTAMP:20260425T053912
CREATED:20260314T023315Z
LAST-MODIFIED:20260403T052003Z
UID:10000508-1921608000-1921620600@cornislandrealty.com
SUMMARY:Karaoke Night at Desi Social Club on Little Corn Island
DESCRIPTION:Every Friday\, Karaoke Night at Desi Social Club lights up Little Corn Island\, Nicaragua. The mic opens at 8:00 pm and runs until 11:30 pm right on the beachfront. \nSing your heart out with locals and visitors under the Caribbean stars. Fuel the fun with $1 rum shots and plenty of liquid courage. Laughs\, cheers\, and island energy fill the night as everyone joins in the good vibes. \n\nKaraoke Night at Desi Social Club brings the lively\, welcoming spirit that makes Corn Island nights unforgettable. \nGrab the mic and make some memories!
URL:https://cornislandrealty.com/event/karaoke-night-at-desi-social-club-little-corn-island/2030-11-22/
LOCATION:Desi Social Club\, Little Corn Island\, Nicaragua
CATEGORIES:Karaoke
ATTACH;FMTTYPE=image/jpeg:https://cornislandrealty.com/wp-content/uploads/2026/03/PHOTO-2026-04-02-18-26-29-3.jpg
GEO:12.2842;-82.9786
END:VEVENT
BEGIN:VEVENT
DTSTART;TZID=America/Costa_Rica:20301129T200000
DTEND;TZID=America/Costa_Rica:20301129T233000
DTSTAMP:20260425T053912
CREATED:20260314T023315Z
LAST-MODIFIED:20260403T052003Z
UID:10000509-1922212800-1922225400@cornislandrealty.com
SUMMARY:Karaoke Night at Desi Social Club on Little Corn Island
DESCRIPTION:Every Friday\, Karaoke Night at Desi Social Club lights up Little Corn Island\, Nicaragua. The mic opens at 8:00 pm and runs until 11:30 pm right on the beachfront. \nSing your heart out with locals and visitors under the Caribbean stars. Fuel the fun with $1 rum shots and plenty of liquid courage. Laughs\, cheers\, and island energy fill the night as everyone joins in the good vibes. \n\nKaraoke Night at Desi Social Club brings the lively\, welcoming spirit that makes Corn Island nights unforgettable. \nGrab the mic and make some memories!
URL:https://cornislandrealty.com/event/karaoke-night-at-desi-social-club-little-corn-island/2030-11-29/
LOCATION:Desi Social Club\, Little Corn Island\, Nicaragua
CATEGORIES:Karaoke
ATTACH;FMTTYPE=image/jpeg:https://cornislandrealty.com/wp-content/uploads/2026/03/PHOTO-2026-04-02-18-26-29-3.jpg
GEO:12.2842;-82.9786
END:VEVENT
BEGIN:VEVENT
DTSTART;TZID=America/Costa_Rica:20301206T200000
DTEND;TZID=America/Costa_Rica:20301206T233000
DTSTAMP:20260425T053912
CREATED:20260314T023315Z
LAST-MODIFIED:20260403T052003Z
UID:10000510-1922817600-1922830200@cornislandrealty.com
SUMMARY:Karaoke Night at Desi Social Club on Little Corn Island
DESCRIPTION:Every Friday\, Karaoke Night at Desi Social Club lights up Little Corn Island\, Nicaragua. The mic opens at 8:00 pm and runs until 11:30 pm right on the beachfront. \nSing your heart out with locals and visitors under the Caribbean stars. Fuel the fun with $1 rum shots and plenty of liquid courage. Laughs\, cheers\, and island energy fill the night as everyone joins in the good vibes. \n\nKaraoke Night at Desi Social Club brings the lively\, welcoming spirit that makes Corn Island nights unforgettable. \nGrab the mic and make some memories!
URL:https://cornislandrealty.com/event/karaoke-night-at-desi-social-club-little-corn-island/2030-12-06/
LOCATION:Desi Social Club\, Little Corn Island\, Nicaragua
CATEGORIES:Karaoke
ATTACH;FMTTYPE=image/jpeg:https://cornislandrealty.com/wp-content/uploads/2026/03/PHOTO-2026-04-02-18-26-29-3.jpg
GEO:12.2842;-82.9786
END:VEVENT
BEGIN:VEVENT
DTSTART;TZID=America/Costa_Rica:20301213T200000
DTEND;TZID=America/Costa_Rica:20301213T233000
DTSTAMP:20260425T053912
CREATED:20260314T023315Z
LAST-MODIFIED:20260403T052003Z
UID:10000511-1923422400-1923435000@cornislandrealty.com
SUMMARY:Karaoke Night at Desi Social Club on Little Corn Island
DESCRIPTION:Every Friday\, Karaoke Night at Desi Social Club lights up Little Corn Island\, Nicaragua. The mic opens at 8:00 pm and runs until 11:30 pm right on the beachfront. \nSing your heart out with locals and visitors under the Caribbean stars. Fuel the fun with $1 rum shots and plenty of liquid courage. Laughs\, cheers\, and island energy fill the night as everyone joins in the good vibes. \n\nKaraoke Night at Desi Social Club brings the lively\, welcoming spirit that makes Corn Island nights unforgettable. \nGrab the mic and make some memories!
URL:https://cornislandrealty.com/event/karaoke-night-at-desi-social-club-little-corn-island/2030-12-13/
LOCATION:Desi Social Club\, Little Corn Island\, Nicaragua
CATEGORIES:Karaoke
ATTACH;FMTTYPE=image/jpeg:https://cornislandrealty.com/wp-content/uploads/2026/03/PHOTO-2026-04-02-18-26-29-3.jpg
GEO:12.2842;-82.9786
END:VEVENT
BEGIN:VEVENT
DTSTART;TZID=America/Costa_Rica:20301220T200000
DTEND;TZID=America/Costa_Rica:20301220T233000
DTSTAMP:20260425T053912
CREATED:20260314T023315Z
LAST-MODIFIED:20260403T052003Z
UID:10000512-1924027200-1924039800@cornislandrealty.com
SUMMARY:Karaoke Night at Desi Social Club on Little Corn Island
DESCRIPTION:Every Friday\, Karaoke Night at Desi Social Club lights up Little Corn Island\, Nicaragua. The mic opens at 8:00 pm and runs until 11:30 pm right on the beachfront. \nSing your heart out with locals and visitors under the Caribbean stars. Fuel the fun with $1 rum shots and plenty of liquid courage. Laughs\, cheers\, and island energy fill the night as everyone joins in the good vibes. \n\nKaraoke Night at Desi Social Club brings the lively\, welcoming spirit that makes Corn Island nights unforgettable. \nGrab the mic and make some memories!
URL:https://cornislandrealty.com/event/karaoke-night-at-desi-social-club-little-corn-island/2030-12-20/
LOCATION:Desi Social Club\, Little Corn Island\, Nicaragua
CATEGORIES:Karaoke
ATTACH;FMTTYPE=image/jpeg:https://cornislandrealty.com/wp-content/uploads/2026/03/PHOTO-2026-04-02-18-26-29-3.jpg
GEO:12.2842;-82.9786
END:VEVENT
BEGIN:VEVENT
DTSTART;TZID=America/Costa_Rica:20301227T200000
DTEND;TZID=America/Costa_Rica:20301227T233000
DTSTAMP:20260425T053912
CREATED:20260314T023315Z
LAST-MODIFIED:20260403T052003Z
UID:10000513-1924632000-1924644600@cornislandrealty.com
SUMMARY:Karaoke Night at Desi Social Club on Little Corn Island
DESCRIPTION:Every Friday\, Karaoke Night at Desi Social Club lights up Little Corn Island\, Nicaragua. The mic opens at 8:00 pm and runs until 11:30 pm right on the beachfront. \nSing your heart out with locals and visitors under the Caribbean stars. Fuel the fun with $1 rum shots and plenty of liquid courage. Laughs\, cheers\, and island energy fill the night as everyone joins in the good vibes. \n\nKaraoke Night at Desi Social Club brings the lively\, welcoming spirit that makes Corn Island nights unforgettable. \nGrab the mic and make some memories!
URL:https://cornislandrealty.com/event/karaoke-night-at-desi-social-club-little-corn-island/2030-12-27/
LOCATION:Desi Social Club\, Little Corn Island\, Nicaragua
CATEGORIES:Karaoke
ATTACH;FMTTYPE=image/jpeg:https://cornislandrealty.com/wp-content/uploads/2026/03/PHOTO-2026-04-02-18-26-29-3.jpg
GEO:12.2842;-82.9786
END:VEVENT
BEGIN:VEVENT
DTSTART;TZID=America/Costa_Rica:20310103T200000
DTEND;TZID=America/Costa_Rica:20310103T233000
DTSTAMP:20260425T053912
CREATED:20260314T023315Z
LAST-MODIFIED:20260403T052003Z
UID:10000514-1925236800-1925249400@cornislandrealty.com
SUMMARY:Karaoke Night at Desi Social Club on Little Corn Island
DESCRIPTION:Every Friday\, Karaoke Night at Desi Social Club lights up Little Corn Island\, Nicaragua. The mic opens at 8:00 pm and runs until 11:30 pm right on the beachfront. \nSing your heart out with locals and visitors under the Caribbean stars. Fuel the fun with $1 rum shots and plenty of liquid courage. Laughs\, cheers\, and island energy fill the night as everyone joins in the good vibes. \n\nKaraoke Night at Desi Social Club brings the lively\, welcoming spirit that makes Corn Island nights unforgettable. \nGrab the mic and make some memories!
URL:https://cornislandrealty.com/event/karaoke-night-at-desi-social-club-little-corn-island/2031-01-03/
LOCATION:Desi Social Club\, Little Corn Island\, Nicaragua
CATEGORIES:Karaoke
ATTACH;FMTTYPE=image/jpeg:https://cornislandrealty.com/wp-content/uploads/2026/03/PHOTO-2026-04-02-18-26-29-3.jpg
GEO:12.2842;-82.9786
END:VEVENT
BEGIN:VEVENT
DTSTART;TZID=America/Costa_Rica:20310110T200000
DTEND;TZID=America/Costa_Rica:20310110T233000
DTSTAMP:20260425T053912
CREATED:20260314T023315Z
LAST-MODIFIED:20260403T052003Z
UID:10000515-1925841600-1925854200@cornislandrealty.com
SUMMARY:Karaoke Night at Desi Social Club on Little Corn Island
DESCRIPTION:Every Friday\, Karaoke Night at Desi Social Club lights up Little Corn Island\, Nicaragua. The mic opens at 8:00 pm and runs until 11:30 pm right on the beachfront. \nSing your heart out with locals and visitors under the Caribbean stars. Fuel the fun with $1 rum shots and plenty of liquid courage. Laughs\, cheers\, and island energy fill the night as everyone joins in the good vibes. \n\nKaraoke Night at Desi Social Club brings the lively\, welcoming spirit that makes Corn Island nights unforgettable. \nGrab the mic and make some memories!
URL:https://cornislandrealty.com/event/karaoke-night-at-desi-social-club-little-corn-island/2031-01-10/
LOCATION:Desi Social Club\, Little Corn Island\, Nicaragua
CATEGORIES:Karaoke
ATTACH;FMTTYPE=image/jpeg:https://cornislandrealty.com/wp-content/uploads/2026/03/PHOTO-2026-04-02-18-26-29-3.jpg
GEO:12.2842;-82.9786
END:VEVENT
BEGIN:VEVENT
DTSTART;TZID=America/Costa_Rica:20310117T200000
DTEND;TZID=America/Costa_Rica:20310117T233000
DTSTAMP:20260425T053912
CREATED:20260314T023315Z
LAST-MODIFIED:20260403T052003Z
UID:10000516-1926446400-1926459000@cornislandrealty.com
SUMMARY:Karaoke Night at Desi Social Club on Little Corn Island
DESCRIPTION:Every Friday\, Karaoke Night at Desi Social Club lights up Little Corn Island\, Nicaragua. The mic opens at 8:00 pm and runs until 11:30 pm right on the beachfront. \nSing your heart out with locals and visitors under the Caribbean stars. Fuel the fun with $1 rum shots and plenty of liquid courage. Laughs\, cheers\, and island energy fill the night as everyone joins in the good vibes. \n\nKaraoke Night at Desi Social Club brings the lively\, welcoming spirit that makes Corn Island nights unforgettable. \nGrab the mic and make some memories!
URL:https://cornislandrealty.com/event/karaoke-night-at-desi-social-club-little-corn-island/2031-01-17/
LOCATION:Desi Social Club\, Little Corn Island\, Nicaragua
CATEGORIES:Karaoke
ATTACH;FMTTYPE=image/jpeg:https://cornislandrealty.com/wp-content/uploads/2026/03/PHOTO-2026-04-02-18-26-29-3.jpg
GEO:12.2842;-82.9786
END:VEVENT
BEGIN:VEVENT
DTSTART;TZID=America/Costa_Rica:20310124T200000
DTEND;TZID=America/Costa_Rica:20310124T233000
DTSTAMP:20260425T053912
CREATED:20260314T023315Z
LAST-MODIFIED:20260403T052003Z
UID:10000517-1927051200-1927063800@cornislandrealty.com
SUMMARY:Karaoke Night at Desi Social Club on Little Corn Island
DESCRIPTION:Every Friday\, Karaoke Night at Desi Social Club lights up Little Corn Island\, Nicaragua. The mic opens at 8:00 pm and runs until 11:30 pm right on the beachfront. \nSing your heart out with locals and visitors under the Caribbean stars. Fuel the fun with $1 rum shots and plenty of liquid courage. Laughs\, cheers\, and island energy fill the night as everyone joins in the good vibes. \n\nKaraoke Night at Desi Social Club brings the lively\, welcoming spirit that makes Corn Island nights unforgettable. \nGrab the mic and make some memories!
URL:https://cornislandrealty.com/event/karaoke-night-at-desi-social-club-little-corn-island/2031-01-24/
LOCATION:Desi Social Club\, Little Corn Island\, Nicaragua
CATEGORIES:Karaoke
ATTACH;FMTTYPE=image/jpeg:https://cornislandrealty.com/wp-content/uploads/2026/03/PHOTO-2026-04-02-18-26-29-3.jpg
GEO:12.2842;-82.9786
END:VEVENT
BEGIN:VEVENT
DTSTART;TZID=America/Costa_Rica:20310131T200000
DTEND;TZID=America/Costa_Rica:20310131T233000
DTSTAMP:20260425T053912
CREATED:20260314T023315Z
LAST-MODIFIED:20260403T052003Z
UID:10000518-1927656000-1927668600@cornislandrealty.com
SUMMARY:Karaoke Night at Desi Social Club on Little Corn Island
DESCRIPTION:Every Friday\, Karaoke Night at Desi Social Club lights up Little Corn Island\, Nicaragua. The mic opens at 8:00 pm and runs until 11:30 pm right on the beachfront. \nSing your heart out with locals and visitors under the Caribbean stars. Fuel the fun with $1 rum shots and plenty of liquid courage. Laughs\, cheers\, and island energy fill the night as everyone joins in the good vibes. \n\nKaraoke Night at Desi Social Club brings the lively\, welcoming spirit that makes Corn Island nights unforgettable. \nGrab the mic and make some memories!
URL:https://cornislandrealty.com/event/karaoke-night-at-desi-social-club-little-corn-island/2031-01-31/
LOCATION:Desi Social Club\, Little Corn Island\, Nicaragua
CATEGORIES:Karaoke
ATTACH;FMTTYPE=image/jpeg:https://cornislandrealty.com/wp-content/uploads/2026/03/PHOTO-2026-04-02-18-26-29-3.jpg
GEO:12.2842;-82.9786
END:VEVENT
BEGIN:VEVENT
DTSTART;TZID=America/Costa_Rica:20310207T200000
DTEND;TZID=America/Costa_Rica:20310207T233000
DTSTAMP:20260425T053912
CREATED:20260314T023315Z
LAST-MODIFIED:20260403T052003Z
UID:10000519-1928260800-1928273400@cornislandrealty.com
SUMMARY:Karaoke Night at Desi Social Club on Little Corn Island
DESCRIPTION:Every Friday\, Karaoke Night at Desi Social Club lights up Little Corn Island\, Nicaragua. The mic opens at 8:00 pm and runs until 11:30 pm right on the beachfront. \nSing your heart out with locals and visitors under the Caribbean stars. Fuel the fun with $1 rum shots and plenty of liquid courage. Laughs\, cheers\, and island energy fill the night as everyone joins in the good vibes. \n\nKaraoke Night at Desi Social Club brings the lively\, welcoming spirit that makes Corn Island nights unforgettable. \nGrab the mic and make some memories!
URL:https://cornislandrealty.com/event/karaoke-night-at-desi-social-club-little-corn-island/2031-02-07/
LOCATION:Desi Social Club\, Little Corn Island\, Nicaragua
CATEGORIES:Karaoke
ATTACH;FMTTYPE=image/jpeg:https://cornislandrealty.com/wp-content/uploads/2026/03/PHOTO-2026-04-02-18-26-29-3.jpg
GEO:12.2842;-82.9786
END:VEVENT
BEGIN:VEVENT
DTSTART;TZID=America/Costa_Rica:20310214T200000
DTEND;TZID=America/Costa_Rica:20310214T233000
DTSTAMP:20260425T053912
CREATED:20260314T023315Z
LAST-MODIFIED:20260403T052003Z
UID:10000520-1928865600-1928878200@cornislandrealty.com
SUMMARY:Karaoke Night at Desi Social Club on Little Corn Island
DESCRIPTION:Every Friday\, Karaoke Night at Desi Social Club lights up Little Corn Island\, Nicaragua. The mic opens at 8:00 pm and runs until 11:30 pm right on the beachfront. \nSing your heart out with locals and visitors under the Caribbean stars. Fuel the fun with $1 rum shots and plenty of liquid courage. Laughs\, cheers\, and island energy fill the night as everyone joins in the good vibes. \n\nKaraoke Night at Desi Social Club brings the lively\, welcoming spirit that makes Corn Island nights unforgettable. \nGrab the mic and make some memories!
URL:https://cornislandrealty.com/event/karaoke-night-at-desi-social-club-little-corn-island/2031-02-14/
LOCATION:Desi Social Club\, Little Corn Island\, Nicaragua
CATEGORIES:Karaoke
ATTACH;FMTTYPE=image/jpeg:https://cornislandrealty.com/wp-content/uploads/2026/03/PHOTO-2026-04-02-18-26-29-3.jpg
GEO:12.2842;-82.9786
END:VEVENT
BEGIN:VEVENT
DTSTART;TZID=America/Costa_Rica:20310221T200000
DTEND;TZID=America/Costa_Rica:20310221T233000
DTSTAMP:20260425T053912
CREATED:20260314T023315Z
LAST-MODIFIED:20260403T052003Z
UID:10000521-1929470400-1929483000@cornislandrealty.com
SUMMARY:Karaoke Night at Desi Social Club on Little Corn Island
DESCRIPTION:Every Friday\, Karaoke Night at Desi Social Club lights up Little Corn Island\, Nicaragua. The mic opens at 8:00 pm and runs until 11:30 pm right on the beachfront. \nSing your heart out with locals and visitors under the Caribbean stars. Fuel the fun with $1 rum shots and plenty of liquid courage. Laughs\, cheers\, and island energy fill the night as everyone joins in the good vibes. \n\nKaraoke Night at Desi Social Club brings the lively\, welcoming spirit that makes Corn Island nights unforgettable. \nGrab the mic and make some memories!
URL:https://cornislandrealty.com/event/karaoke-night-at-desi-social-club-little-corn-island/2031-02-21/
LOCATION:Desi Social Club\, Little Corn Island\, Nicaragua
CATEGORIES:Karaoke
ATTACH;FMTTYPE=image/jpeg:https://cornislandrealty.com/wp-content/uploads/2026/03/PHOTO-2026-04-02-18-26-29-3.jpg
GEO:12.2842;-82.9786
END:VEVENT
BEGIN:VEVENT
DTSTART;TZID=America/Costa_Rica:20310228T200000
DTEND;TZID=America/Costa_Rica:20310228T233000
DTSTAMP:20260425T053912
CREATED:20260314T023315Z
LAST-MODIFIED:20260403T052003Z
UID:10000522-1930075200-1930087800@cornislandrealty.com
SUMMARY:Karaoke Night at Desi Social Club on Little Corn Island
DESCRIPTION:Every Friday\, Karaoke Night at Desi Social Club lights up Little Corn Island\, Nicaragua. The mic opens at 8:00 pm and runs until 11:30 pm right on the beachfront. \nSing your heart out with locals and visitors under the Caribbean stars. Fuel the fun with $1 rum shots and plenty of liquid courage. Laughs\, cheers\, and island energy fill the night as everyone joins in the good vibes. \n\nKaraoke Night at Desi Social Club brings the lively\, welcoming spirit that makes Corn Island nights unforgettable. \nGrab the mic and make some memories!
URL:https://cornislandrealty.com/event/karaoke-night-at-desi-social-club-little-corn-island/2031-02-28/
LOCATION:Desi Social Club\, Little Corn Island\, Nicaragua
CATEGORIES:Karaoke
ATTACH;FMTTYPE=image/jpeg:https://cornislandrealty.com/wp-content/uploads/2026/03/PHOTO-2026-04-02-18-26-29-3.jpg
GEO:12.2842;-82.9786
END:VEVENT
BEGIN:VEVENT
DTSTART;TZID=America/Costa_Rica:20310307T200000
DTEND;TZID=America/Costa_Rica:20310307T233000
DTSTAMP:20260425T053912
CREATED:20260314T023315Z
LAST-MODIFIED:20260403T052003Z
UID:10000523-1930680000-1930692600@cornislandrealty.com
SUMMARY:Karaoke Night at Desi Social Club on Little Corn Island
DESCRIPTION:Every Friday\, Karaoke Night at Desi Social Club lights up Little Corn Island\, Nicaragua. The mic opens at 8:00 pm and runs until 11:30 pm right on the beachfront. \nSing your heart out with locals and visitors under the Caribbean stars. Fuel the fun with $1 rum shots and plenty of liquid courage. Laughs\, cheers\, and island energy fill the night as everyone joins in the good vibes. \n\nKaraoke Night at Desi Social Club brings the lively\, welcoming spirit that makes Corn Island nights unforgettable. \nGrab the mic and make some memories!
URL:https://cornislandrealty.com/event/karaoke-night-at-desi-social-club-little-corn-island/2031-03-07/
LOCATION:Desi Social Club\, Little Corn Island\, Nicaragua
CATEGORIES:Karaoke
ATTACH;FMTTYPE=image/jpeg:https://cornislandrealty.com/wp-content/uploads/2026/03/PHOTO-2026-04-02-18-26-29-3.jpg
GEO:12.2842;-82.9786
END:VEVENT
BEGIN:VEVENT
DTSTART;TZID=America/Costa_Rica:20310314T200000
DTEND;TZID=America/Costa_Rica:20310314T233000
DTSTAMP:20260425T053912
CREATED:20260314T023315Z
LAST-MODIFIED:20260403T052003Z
UID:10002890-1931284800-1931297400@cornislandrealty.com
SUMMARY:Karaoke Night at Desi Social Club on Little Corn Island
DESCRIPTION:Every Friday\, Karaoke Night at Desi Social Club lights up Little Corn Island\, Nicaragua. The mic opens at 8:00 pm and runs until 11:30 pm right on the beachfront. \nSing your heart out with locals and visitors under the Caribbean stars. Fuel the fun with $1 rum shots and plenty of liquid courage. Laughs\, cheers\, and island energy fill the night as everyone joins in the good vibes. \n\nKaraoke Night at Desi Social Club brings the lively\, welcoming spirit that makes Corn Island nights unforgettable. \nGrab the mic and make some memories!
URL:https://cornislandrealty.com/event/karaoke-night-at-desi-social-club-little-corn-island/2031-03-14/
LOCATION:Desi Social Club\, Little Corn Island\, Nicaragua
CATEGORIES:Karaoke
ATTACH;FMTTYPE=image/jpeg:https://cornislandrealty.com/wp-content/uploads/2026/03/PHOTO-2026-04-02-18-26-29-3.jpg
GEO:12.2842;-82.9786
END:VEVENT
BEGIN:VEVENT
DTSTART;TZID=America/Costa_Rica:20310321T200000
DTEND;TZID=America/Costa_Rica:20310321T233000
DTSTAMP:20260425T053912
CREATED:20260314T023315Z
LAST-MODIFIED:20260403T052003Z
UID:10002891-1931889600-1931902200@cornislandrealty.com
SUMMARY:Karaoke Night at Desi Social Club on Little Corn Island
DESCRIPTION:Every Friday\, Karaoke Night at Desi Social Club lights up Little Corn Island\, Nicaragua. The mic opens at 8:00 pm and runs until 11:30 pm right on the beachfront. \nSing your heart out with locals and visitors under the Caribbean stars. Fuel the fun with $1 rum shots and plenty of liquid courage. Laughs\, cheers\, and island energy fill the night as everyone joins in the good vibes. \n\nKaraoke Night at Desi Social Club brings the lively\, welcoming spirit that makes Corn Island nights unforgettable. \nGrab the mic and make some memories!
URL:https://cornislandrealty.com/event/karaoke-night-at-desi-social-club-little-corn-island/2031-03-21/
LOCATION:Desi Social Club\, Little Corn Island\, Nicaragua
CATEGORIES:Karaoke
ATTACH;FMTTYPE=image/jpeg:https://cornislandrealty.com/wp-content/uploads/2026/03/PHOTO-2026-04-02-18-26-29-3.jpg
GEO:12.2842;-82.9786
END:VEVENT
BEGIN:VEVENT
DTSTART;TZID=America/Costa_Rica:20310328T200000
DTEND;TZID=America/Costa_Rica:20310328T233000
DTSTAMP:20260425T053912
CREATED:20260314T023315Z
LAST-MODIFIED:20260403T052003Z
UID:10002892-1932494400-1932507000@cornislandrealty.com
SUMMARY:Karaoke Night at Desi Social Club on Little Corn Island
DESCRIPTION:Every Friday\, Karaoke Night at Desi Social Club lights up Little Corn Island\, Nicaragua. The mic opens at 8:00 pm and runs until 11:30 pm right on the beachfront. \nSing your heart out with locals and visitors under the Caribbean stars. Fuel the fun with $1 rum shots and plenty of liquid courage. Laughs\, cheers\, and island energy fill the night as everyone joins in the good vibes. \n\nKaraoke Night at Desi Social Club brings the lively\, welcoming spirit that makes Corn Island nights unforgettable. \nGrab the mic and make some memories!
URL:https://cornislandrealty.com/event/karaoke-night-at-desi-social-club-little-corn-island/2031-03-28/
LOCATION:Desi Social Club\, Little Corn Island\, Nicaragua
CATEGORIES:Karaoke
ATTACH;FMTTYPE=image/jpeg:https://cornislandrealty.com/wp-content/uploads/2026/03/PHOTO-2026-04-02-18-26-29-3.jpg
GEO:12.2842;-82.9786
END:VEVENT
END:VCALENDAR